BEGIN:VCALENDAR
VERSION:2.0
PRODID:-//hundgerecht - ECPv6.15.20//NONSGML v1.0//EN
CALSCALE:GREGORIAN
METHOD:PUBLISH
X-WR-CALNAME:hundgerecht
X-ORIGINAL-URL:https://hundgerecht.at
X-WR-CALDESC:Veranstaltungen für hundgerecht
REFRESH-INTERVAL;VALUE=DURATION:PT1H
X-Robots-Tag:noindex
X-PUBLISHED-TTL:PT1H
BEGIN:VTIMEZONE
TZID:Europe/Vienna
BEGIN:DAYLIGHT
TZOFFSETFROM:+0100
TZOFFSETTO:+0200
TZNAME:CEST
DTSTART:20250330T010000
END:DAYLIGHT
BEGIN:STANDARD
TZOFFSETFROM:+0200
TZOFFSETTO:+0100
TZNAME:CET
DTSTART:20251026T010000
END:STANDARD
BEGIN:DAYLIGHT
TZOFFSETFROM:+0100
TZOFFSETTO:+0200
TZNAME:CEST
DTSTART:20260329T010000
END:DAYLIGHT
BEGIN:STANDARD
TZOFFSETFROM:+0200
TZOFFSETTO:+0100
TZNAME:CET
DTSTART:20261025T010000
END:STANDARD
BEGIN:DAYLIGHT
TZOFFSETFROM:+0100
TZOFFSETTO:+0200
TZNAME:CEST
DTSTART:20270328T010000
END:DAYLIGHT
BEGIN:STANDARD
TZOFFSETFROM:+0200
TZOFFSETTO:+0100
TZNAME:CET
DTSTART:20271031T010000
END:STANDARD
END:VTIMEZONE
BEGIN:VEVENT
DTSTART;TZID=Europe/Vienna:20260426T130000
DTEND;TZID=Europe/Vienna:20260426T170000
DTSTAMP:20260420T021309
CREATED:20260108T145443Z
LAST-MODIFIED:20260307T195346Z
UID:1869-1777208400-1777222800@hundgerecht.at
SUMMARY:26.4. Mantrailing Prüfung
DESCRIPTION:Das Datum steht\, der Ort noch nicht. Die Prüfung findet wieder mit unserer geschätzten Annette Unterweger von den Spürnasen als Prüferin statt. Ort\, Kosten und Prüfungsvorbereitungstermine werden noch bekanntgegeben. \nDie Prüfung findet ab 5 Teilnehmerteams statt.
URL:https://hundgerecht.at/event/11-4-mantrailing-pruefung/
CATEGORIES:Mantrailing Prüfung
END:VEVENT
BEGIN:VEVENT
DTSTART;TZID=Europe/Vienna:20260430T140000
DTEND;TZID=Europe/Vienna:20260503T130000
DTSTAMP:20260420T021309
CREATED:20260108T151418Z
LAST-MODIFIED:20260108T151418Z
UID:1875-1777557600-1777813200@hundgerecht.at
SUMMARY:Mantrailing Intensivwochenende Steiermark
DESCRIPTION:Für die wichtigen Dinge\, welche gerne im Training untergehen oder einfach die Zeit fehlt\, um sie genauer zu üben. \n\n\nKreuzungsarbeit\, Leinenhandling\, Differenzieren und das Wichtigste zum Schluss:  \n\n\nDie Anzeige des Hundes bei unterschiedlichem Spuralter.
URL:https://hundgerecht.at/event/mantrailing-intensivwochenende-steiermark/
CATEGORIES:Mantrailing Ausflüge
END:VEVENT
BEGIN:VEVENT
DTSTART;TZID=Europe/Vienna:20260912T080000
DTEND;TZID=Europe/Vienna:20260919T170000
DTSTAMP:20260420T021309
CREATED:20260108T151704Z
LAST-MODIFIED:20260108T151704Z
UID:1878-1789200000-1789837200@hundgerecht.at
SUMMARY:Mantrailing Seminarwoche Kroatien
DESCRIPTION:Wir gehen Glamping! \nWir vertiefen die wichtigen Dinge und greifen offene Fragen auf.\nUm hundgerechte Trainingsbedingungen zu schaffen\, wird es in einem entspannten Clampingresort stattfinden.\nSonne\, Meer\, Trailen\, gibt es was schöneres?
URL:https://hundgerecht.at/event/mantrailing-seminarwoche-kroatien/
CATEGORIES:Mantrailing Ausflüge
END:VEVENT
END:VCALENDAR